BEGIN:VCALENDAR
VERSION:2.0
PRODID:-//Polski Związek Emerytów, Rencistów i Inwalidów w Grodzisku Mazowieckim - ECPv6.10.0//NONSGML v1.0//EN
CALSCALE:GREGORIAN
METHOD:PUBLISH
X-WR-CALNAME:Polski Związek Emerytów, Rencistów i Inwalidów w Grodzisku Mazowieckim
X-ORIGINAL-URL:https://emeryci.grodzisk.pl
X-WR-CALDESC:Events for Polski Związek Emerytów, Rencistów i Inwalidów w Grodzisku Mazowieckim
REFRESH-INTERVAL;VALUE=DURATION:PT1H
X-Robots-Tag:noindex
X-PUBLISHED-TTL:PT1H
BEGIN:VTIMEZONE
TZID:Europe/Warsaw
BEGIN:DAYLIGHT
TZOFFSETFROM:+0100
TZOFFSETTO:+0200
TZNAME:CEST
DTSTART:20230326T010000
END:DAYLIGHT
BEGIN:STANDARD
TZOFFSETFROM:+0200
TZOFFSETTO:+0100
TZNAME:CET
DTSTART:20231029T010000
END:STANDARD
END:VTIMEZONE
BEGIN:VEVENT
DTSTART;TZID=Europe/Warsaw:20231119T000000
DTEND;TZID=Europe/Warsaw:20231119T235959
DTSTAMP:20260418T230554
CREATED:20230927T094010Z
LAST-MODIFIED:20231011T151441Z
UID:1113-1700352000-1700438399@emeryci.grodzisk.pl
SUMMARY:Spektakl „Powiedzmy miłość” w Teatrze Komedia w Warszawie
DESCRIPTION:Zarząd Rejonowy Związku Emerytów\, Rencistów i Inwalidów w Grodzisku Mazowieckim organizuje wyjazd do Teatru Komedia w Warszawie na spektakl pt. „Powiedzmy miłość” w dniu 19 listopada 2023 r. o godz. 16:00. \nOpis spektaklu: https://teatrkomedia.pl/spektakle/powiedzmy-milosc/ \nKoszt wyjazdu z dopłatą do transportu – 110 zł. \nWpłaty w Biurze Związku od 4 października 2023 r. przyjmuje Roman Dziewoński. \nWyjazd z parkingu Centrum Kultury w dniu 19 listopada 2023 r. (niedziela) o godz. 14:00.
URL:https://emeryci.grodzisk.pl/event/spektakl-powiedzmy-milosc-w-teatrze-komedia-w-warszawie/
CATEGORIES:Kultura
END:VEVENT
END:VCALENDAR