BEGIN:VCALENDAR
VERSION:2.0
PRODID:-//Polski Związek Emerytów, Rencistów i Inwalidów w Grodzisku Mazowieckim - ECPv6.10.0//NONSGML v1.0//EN
CALSCALE:GREGORIAN
METHOD:PUBLISH
X-WR-CALNAME:Polski Związek Emerytów, Rencistów i Inwalidów w Grodzisku Mazowieckim
X-ORIGINAL-URL:https://emeryci.grodzisk.pl
X-WR-CALDESC:Events for Polski Związek Emerytów, Rencistów i Inwalidów w Grodzisku Mazowieckim
REFRESH-INTERVAL;VALUE=DURATION:PT1H
X-Robots-Tag:noindex
X-PUBLISHED-TTL:PT1H
BEGIN:VTIMEZONE
TZID:Europe/Warsaw
BEGIN:DAYLIGHT
TZOFFSETFROM:+0100
TZOFFSETTO:+0200
TZNAME:CEST
DTSTART:20240331T010000
END:DAYLIGHT
BEGIN:STANDARD
TZOFFSETFROM:+0200
TZOFFSETTO:+0100
TZNAME:CET
DTSTART:20241027T010000
END:STANDARD
END:VTIMEZONE
BEGIN:VEVENT
DTSTART;TZID=Europe/Warsaw:20240827T000000
DTEND;TZID=Europe/Warsaw:20240906T235959
DTSTAMP:20260418T225741
CREATED:20231227T162027Z
LAST-MODIFIED:20240814T070717Z
UID:1626-1724716800-1725667199@emeryci.grodzisk.pl
SUMMARY:Turnus wypoczynkowo-rehabilitacyjny w Jarosławcu
DESCRIPTION:Zarząd PZERiI organizuje turnus wypoczynkowo-rehabilitacyjny \nw Jarosławcu (Ośrodek Home)  \nod 27 sierpnia do 6 września 2024 r. \nCena wyjazdu: 2 200 zł \nCena zawiera: \n\nzakwaterowanie w pokojach 2-osobowych z pełnym węzłem sanitarnym\,\n3 posiłki dziennie (śniadania i kolacje: bufet szwedzki\, obiady serwowane)\,\n2 zabiegi dziennie w dni robocze\,\nbiesiada z tańcami przy muzyce\,\ndostęp do strefy SPA i basenu\,\ntransport autokarem i ubezpieczenie NNW.\n\nW obiekcie znajduje się winda.\nDodatkowo płatne (na miejscu): opłata klimatyczna. \nWyjazd w dniu 27 sierpnia (wtorek) o godz. 7:30 z parkingu Centrum Kultury. \nUWAGA! Zwolniło się 1 miejsce dla kobiety.
URL:https://emeryci.grodzisk.pl/event/turnus-wypoczynkowo-rehabilitacyjny-w-jaroslawcu/
CATEGORIES:Wycieczka
END:VEVENT
END:VCALENDAR