BEGIN:VCALENDAR
VERSION:2.0
PRODID:-//Polski Związek Emerytów, Rencistów i Inwalidów w Grodzisku Mazowieckim - ECPv6.10.0//NONSGML v1.0//EN
CALSCALE:GREGORIAN
METHOD:PUBLISH
X-ORIGINAL-URL:https://emeryci.grodzisk.pl
X-WR-CALDESC:Events for Polski Związek Emerytów, Rencistów i Inwalidów w Grodzisku Mazowieckim
REFRESH-INTERVAL;VALUE=DURATION:PT1H
X-Robots-Tag:noindex
X-PUBLISHED-TTL:PT1H
BEGIN:VTIMEZONE
TZID:Europe/Warsaw
BEGIN:DAYLIGHT
TZOFFSETFROM:+0100
TZOFFSETTO:+0200
TZNAME:CEST
DTSTART:20240331T010000
END:DAYLIGHT
BEGIN:STANDARD
TZOFFSETFROM:+0200
TZOFFSETTO:+0100
TZNAME:CET
DTSTART:20241027T010000
END:STANDARD
END:VTIMEZONE
BEGIN:VEVENT
DTSTART;TZID=Europe/Warsaw:20240923T000000
DTEND;TZID=Europe/Warsaw:20240930T235959
DTSTAMP:20260423T172547
CREATED:20231004T095939Z
LAST-MODIFIED:20240913T121040Z
UID:1217-1727049600-1727740799@emeryci.grodzisk.pl
SUMMARY:Wczasy i zwiedzanie Hiszpania
DESCRIPTION:Zarząd Rejonowy PZERiI w Grodzisku Mazowieckim oraz Biuro Turystyczne TAURI zapraszają na wycieczkę samolotową \nBARCELONA – FIGUERES – GIRONA – MONTSERRAT \n23-30 września 2024 r. (poniedziałek – poniedziałek) – 8 dni \nCena: 4075 zł + 90 € \nZapisy wraz z zaliczką 1200 zł do 10 listopada 2023 r. \nZapisy i informacje:\nMieczysław Osiadacz\, tel. 600-244-842\noraz\nBiuro Związku\, Centrum Kultury\, ul. Spółdzielcza 9\, II piętro\, środy 10:00-13:00 i piątki 09:00-12:00 \nWycieczka także dla osób niezrzeszonych w PZERiI. \nSzczegółowy program
URL:https://emeryci.grodzisk.pl/event/wczasy-i-zwiedzanie-hiszpania/
CATEGORIES:Wycieczka
END:VEVENT
BEGIN:VEVENT
DTSTART;TZID=Europe/Warsaw:20240926T000000
DTEND;TZID=Europe/Warsaw:20240926T235959
DTSTAMP:20260423T172547
CREATED:20240913T114337Z
LAST-MODIFIED:20240913T120051Z
UID:2868-1727308800-1727395199@emeryci.grodzisk.pl
SUMMARY:Spotkanie integracyjne
DESCRIPTION:ZAPROSZENIE \nZapraszamy na spotkanie integracyjne\, które odbędzie się 26 września 2024 r. w Hali Widowiskowo-Sportowej w Grodzisku Mazowieckim\, ul. Sportowa 29 w godz. 16:00-21:00. Zaproszenia będą wydawane od 18 września 2024 r. za okazaniem legitymacji związkowej z opłaconymi składkami za rok bieżący. Cena zaproszenia: 30 zł od osoby. Wejście na Halę od strony parkingu od godz. 15:30. Jedna osoba może wziąć maksymalnie 2 zaproszenia. \nZarząd PERiI
URL:https://emeryci.grodzisk.pl/event/spotkanie-integracyjne-6/
CATEGORIES:Integracja
END:VEVENT
END:VCALENDAR