BEGIN:VCALENDAR
VERSION:2.0
PRODID:-//Polski Związek Emerytów, Rencistów i Inwalidów w Grodzisku Mazowieckim - ECPv6.10.0//NONSGML v1.0//EN
CALSCALE:GREGORIAN
METHOD:PUBLISH
X-ORIGINAL-URL:https://emeryci.grodzisk.pl
X-WR-CALDESC:Events for Polski Związek Emerytów, Rencistów i Inwalidów w Grodzisku Mazowieckim
REFRESH-INTERVAL;VALUE=DURATION:PT1H
X-Robots-Tag:noindex
X-PUBLISHED-TTL:PT1H
BEGIN:VTIMEZONE
TZID:Europe/Warsaw
BEGIN:DAYLIGHT
TZOFFSETFROM:+0100
TZOFFSETTO:+0200
TZNAME:CEST
DTSTART:20240331T010000
END:DAYLIGHT
BEGIN:STANDARD
TZOFFSETFROM:+0200
TZOFFSETTO:+0100
TZNAME:CET
DTSTART:20241027T010000
END:STANDARD
END:VTIMEZONE
BEGIN:VEVENT
DTSTART;TZID=Europe/Warsaw:20241011T000000
DTEND;TZID=Europe/Warsaw:20241231T235959
DTSTAMP:20260423T211510
CREATED:20241011T141051Z
LAST-MODIFIED:20241011T143753Z
UID:2948-1728604800-1735689599@emeryci.grodzisk.pl
SUMMARY:Spotkania grupy wsparcia dla opiekunów osób z demencją
DESCRIPTION:Spotkania odbywają się w każdą pierwszą i trzecią środę miesiąca w godz. 16:30-18:30 w Centrum Kultury w Grodzisku Mazowieckim (sala konferencyjna – II piętro). Zapraszamy wszystkich potrzebujących. Wstęp wolny. \nSPOTKANIA
URL:https://emeryci.grodzisk.pl/event/spotkania-grupy-wsparcia-dla-opiekunow-osob-z-demencja/
CATEGORIES:Integracja
END:VEVENT
BEGIN:VEVENT
DTSTART;TZID=Europe/Warsaw:20241129T000000
DTEND;TZID=Europe/Warsaw:20241129T235959
DTSTAMP:20260423T211510
CREATED:20241015T183608Z
LAST-MODIFIED:20241015T183837Z
UID:2969-1732838400-1732924799@emeryci.grodzisk.pl
SUMMARY:Teatr Komedia
DESCRIPTION:Wyjazd do teatru Komedia w Warszawie na spektakl “Zemsta” A. Fredry w dniu 29 listopada 2024 r. Cena wyjazdu wraz z biletem wynosi 140 PLN. Zapisy od 16 października 2024 r. Wyjazd do teatru w dn. 29.11.2024 r. o godz. 13:00 z parkingu Centrum Kultury.
URL:https://emeryci.grodzisk.pl/event/teatr-komedia-2/
CATEGORIES:Kultura
END:VEVENT
END:VCALENDAR