BEGIN:VCALENDAR
VERSION:2.0
PRODID:-//Polski Związek Emerytów, Rencistów i Inwalidów w Grodzisku Mazowieckim - ECPv6.10.0//NONSGML v1.0//EN
CALSCALE:GREGORIAN
METHOD:PUBLISH
X-WR-CALNAME:Polski Związek Emerytów, Rencistów i Inwalidów w Grodzisku Mazowieckim
X-ORIGINAL-URL:https://emeryci.grodzisk.pl
X-WR-CALDESC:Events for Polski Związek Emerytów, Rencistów i Inwalidów w Grodzisku Mazowieckim
REFRESH-INTERVAL;VALUE=DURATION:PT1H
X-Robots-Tag:noindex
X-PUBLISHED-TTL:PT1H
BEGIN:VTIMEZONE
TZID:Europe/Warsaw
BEGIN:DAYLIGHT
TZOFFSETFROM:+0100
TZOFFSETTO:+0200
TZNAME:CEST
DTSTART:20250330T010000
END:DAYLIGHT
BEGIN:STANDARD
TZOFFSETFROM:+0200
TZOFFSETTO:+0100
TZNAME:CET
DTSTART:20251026T010000
END:STANDARD
END:VTIMEZONE
BEGIN:VEVENT
DTSTART;TZID=Europe/Warsaw:20250521T000000
DTEND;TZID=Europe/Warsaw:20250528T235959
DTSTAMP:20260423T122809
CREATED:20240908T161329Z
LAST-MODIFIED:20250617T155155Z
UID:2848-1747785600-1748476799@emeryci.grodzisk.pl
SUMMARY:Czarnogóra samolotem
DESCRIPTION:Wycieczka do Czarnogóry samolotem w dniach 21-28 maja 2025 r.  (8 dni) \nCena: 1790 PLN + 1400 bilet lotniczy + 230 PLN bagaż rejestrowany + około 55 EUR \nI wpłata 1700 PLN – do 20 lutego 2025 r. \n  \nŚwiadczenia w cenie: \n\n7 noclegów w jednym hotelu***\n7 śniadań\, 7 obiadokolacji z wodą do posiłków\nTransfer z lotniska do hotelu Podgorica-Bar-Podgorica\nWycieczki objęte programem\nBasen z jacuzzi w hotelu Adriana w Barze\nLodówka\, klimatyzacja oraz wi-fi  w pokojach w hotelu\nOpieka pilota\, ubezpieczenie podstawowe\nOpłata na ubezpieczeniowy fundusz gwarancyjny\nBagaż rejestrowany w obie strony – 20 kg i podręczny 8 kg.\nWylot z lotniska Chopina – Warszawa Okęcie.
URL:https://emeryci.grodzisk.pl/event/czarnogora-2025/
CATEGORIES:Wycieczka
END:VEVENT
END:VCALENDAR