BEGIN:VCALENDAR
VERSION:2.0
PRODID:-//Polski Związek Emerytów, Rencistów i Inwalidów w Grodzisku Mazowieckim - ECPv6.10.0//NONSGML v1.0//EN
CALSCALE:GREGORIAN
METHOD:PUBLISH
X-WR-CALNAME:Polski Związek Emerytów, Rencistów i Inwalidów w Grodzisku Mazowieckim
X-ORIGINAL-URL:https://emeryci.grodzisk.pl
X-WR-CALDESC:Events for Polski Związek Emerytów, Rencistów i Inwalidów w Grodzisku Mazowieckim
REFRESH-INTERVAL;VALUE=DURATION:PT1H
X-Robots-Tag:noindex
X-PUBLISHED-TTL:PT1H
BEGIN:VTIMEZONE
TZID:Europe/Warsaw
BEGIN:DAYLIGHT
TZOFFSETFROM:+0100
TZOFFSETTO:+0200
TZNAME:CEST
DTSTART:20240331T010000
END:DAYLIGHT
BEGIN:STANDARD
TZOFFSETFROM:+0200
TZOFFSETTO:+0100
TZNAME:CET
DTSTART:20241027T010000
END:STANDARD
BEGIN:DAYLIGHT
TZOFFSETFROM:+0100
TZOFFSETTO:+0200
TZNAME:CEST
DTSTART:20250330T010000
END:DAYLIGHT
BEGIN:STANDARD
TZOFFSETFROM:+0200
TZOFFSETTO:+0100
TZNAME:CET
DTSTART:20251026T010000
END:STANDARD
BEGIN:DAYLIGHT
TZOFFSETFROM:+0100
TZOFFSETTO:+0200
TZNAME:CEST
DTSTART:20260329T010000
END:DAYLIGHT
BEGIN:STANDARD
TZOFFSETFROM:+0200
TZOFFSETTO:+0100
TZNAME:CET
DTSTART:20261025T010000
END:STANDARD
END:VTIMEZONE
BEGIN:VEVENT
DTSTART;TZID=Europe/Warsaw:20260531T000000
DTEND;TZID=Europe/Warsaw:20260607T235959
DTSTAMP:20260421T040134
CREATED:20260109T131245Z
LAST-MODIFIED:20260326T190627Z
UID:4227-1780185600-1780876799@emeryci.grodzisk.pl
SUMMARY:Turnus rehabilitacyjno-wypoczynkowy w Darłówku
DESCRIPTION:Organizator zapewnia: \n\nzakwaterowanie w pokojach dwuosobowych\,\n3 posiłki dziennie\,\nwieczorek taneczny przy muzyce mechanicznej\,\nwieczorek ze słodkim bufetem oraz muzyką na żywo\,\n10 zabiegów rehabilitacyjnych\,\nbiesiada przy ognisku.\nprzejazd ciuchcią po Darłówku
URL:https://emeryci.grodzisk.pl/event/turnus-rehabilitacyjno-wypoczynkowy-w-darlowku/
CATEGORIES:Wycieczka
END:VEVENT
BEGIN:VEVENT
DTSTART;TZID=Europe/Warsaw:20260515T000000
DTEND;TZID=Europe/Warsaw:20260526T235959
DTSTAMP:20260421T040134
CREATED:20260116T095545Z
LAST-MODIFIED:20260326T190616Z
UID:4268-1778803200-1779839999@emeryci.grodzisk.pl
SUMMARY:Turnus wypoczynkowy w Rowach
DESCRIPTION:Zarząd Oddziału Rejonowego PZEiR\nw Grodzisku Mazowieckim  \norganizuje turnus wypoczynkowy\nw Rowach \nw Ośrodku Wypoczynkowym „Wodnik”\nw dniach 15 maja – 26 maja 2026 r. \nCena 2.450 PLN od osoby + opłata klimatyczna. \nW cenie: \nzakwaterowanie w pokojach dwuosobowych \n3 posiłki dziennie \nwieczór z grillem \nkolacja biesiadna z muzyką mechaniczną \nwieczór rybny z degustacją ryb \nsłodkie podwieczorki \nZapisy od 30 stycznia 2026 r. Przy zapisie 1.000 PLN zaliczki.
URL:https://emeryci.grodzisk.pl/event/turnus-wypoczynkowy-w-rowach-2/
CATEGORIES:Wycieczka
END:VEVENT
BEGIN:VEVENT
DTSTART;TZID=Europe/Warsaw:20260512T000000
DTEND;TZID=Europe/Warsaw:20260512T235959
DTSTAMP:20260421T040134
CREATED:20251227T164326Z
LAST-MODIFIED:20260326T190607Z
UID:4201-1778544000-1778630399@emeryci.grodzisk.pl
SUMMARY:Wyjazd do teatru Studio Buffo
DESCRIPTION:Zapraszamy na musical WIECZÓR BAŁKAŃSKI do teatru Studio Buffo w dniu 12 maja 2026 r. godz.19:00. Odpłatność za bilet wraz z dojazdem autokarem i ubezpieczeniem wynosi 170 PLN/osoba. Zapisy wraz z opłatą od 9 stycznia 2026 r. w Biurze Związku Emerytów.
URL:https://emeryci.grodzisk.pl/event/wyjazd-do-teatru-studio-buffo/
CATEGORIES:Kultura
END:VEVENT
BEGIN:VEVENT
DTSTART;TZID=Europe/Warsaw:20260402T000000
DTEND;TZID=Europe/Warsaw:20260408T235959
DTSTAMP:20260421T040134
CREATED:20260121T131514Z
LAST-MODIFIED:20260326T191046Z
UID:4336-1775088000-1775692799@emeryci.grodzisk.pl
SUMMARY:Turnus wielkanocny w Mielnie
DESCRIPTION:Zarząd Związku Emerytów Oddział Rejonowy w Grodzisku Mazowieckim ogłasza zapisy na wielkanocny turnus rehabilitacyjno-wypoczynkowy w Mielnie w dniach 2-8 kwietnia 2026 r. Cena wyjazdu 1800 PLN od osoby. Zapisy od 14 stycznia 2026 r. wraz z zaliczką 1000 PLN od osoby + klimatyczne 20 PLN. \nCena zawiera: \nnoclegi w pokojach 2-osobowych\, \nwyżywienie -3 posiłki dziennie \nuroczyste śniadanie Wielkanocne\, \n4 zabiegi fizykoterapeutyczne\, \nwstęp do hotelowego basenu i jacuzzi \n Transport w obie strony \nobiad w drodze powrotnej \n  \nWyjazd w dniu 2 kwietnia 2026 (czwartek) o godz. 7:00 z parkingu Centrum Kultury.
URL:https://emeryci.grodzisk.pl/event/turnus-wielkanocny-w-mielnie/
CATEGORIES:Wycieczka
END:VEVENT
BEGIN:VEVENT
DTSTART;TZID=Europe/Warsaw:20260323T080000
DTEND;TZID=Europe/Warsaw:20260323T140000
DTSTAMP:20260421T040134
CREATED:20260320T144058Z
LAST-MODIFIED:20260320T144724Z
UID:4471-1774252800-1774274400@emeryci.grodzisk.pl
SUMMARY:Spotkanie pełne uśmiechu
DESCRIPTION:23 marca 2026 r. godz.14:00 w Pawilonie Kultury  ul. Westfala  33b spotkanie na temat:\nJak z uśmiechem dźwigać życiowe ciężary. Wstęp wolny. Zapraszamy w imieniu organizatorów.
URL:https://emeryci.grodzisk.pl/event/spotkanie-pelne-usmiechu/
CATEGORIES:Kultura
END:VEVENT
BEGIN:VEVENT
DTSTART;TZID=Europe/Warsaw:20260219T080000
DTEND;TZID=Europe/Warsaw:20260219T170000
DTSTAMP:20260421T040134
CREATED:20260109T133203Z
LAST-MODIFIED:20260109T133304Z
UID:4234-1771488000-1771520400@emeryci.grodzisk.pl
SUMMARY:Wyjazd do Mazowieckiego Teatru Muzycznego
DESCRIPTION:
URL:https://emeryci.grodzisk.pl/event/wyjazd-do-mazowieckiego-teatru-muzycznego/
CATEGORIES:Kultura
END:VEVENT
BEGIN:VEVENT
DTSTART;TZID=Europe/Warsaw:20260109T080000
DTEND;TZID=Europe/Warsaw:20260109T170000
DTSTAMP:20260421T040134
CREATED:20260109T161949Z
LAST-MODIFIED:20260206T155411Z
UID:4249-1767945600-1767978000@emeryci.grodzisk.pl
SUMMARY:PLAN WYJAZDÓW w 2026 r.
DESCRIPTION:PLANSzanowni Państwo\, członkowie Związku Emerytów \nPrzedstawiamy plan wielodniowych wyjazdów w 2026 r. Są to wyjazdy krajowe i zagraniczne. Wycieczki jednodniowe i wielodniowe po kraju są w trakcie negocjacji\nz biurami podróży. Po wynegocjowaniu warunków i cen natychmiast podamy je do Państwa wiadomości. Poniżej tabela z terminami.  Wystarczy kliknąć w PLAN. \nPLAN \n 
URL:https://emeryci.grodzisk.pl/event/plan-wyjazdow-w-2026-r/
CATEGORIES:Wycieczka
END:VEVENT
BEGIN:VEVENT
DTSTART;TZID=Europe/Warsaw:20251223T080000
DTEND;TZID=Europe/Warsaw:20260102T170000
DTSTAMP:20260421T040134
CREATED:20250813T093438Z
LAST-MODIFIED:20260116T152606Z
UID:3891-1766476800-1767373200@emeryci.grodzisk.pl
SUMMARY:Turnus świąteczno-noworoczny
DESCRIPTION:Zapraszamy na turnus\nświąteczno-noworoczny w Ustce \n dniach 23.12. 2025 r.–02.01.2026 r. \nCena turnusu: 2.800 PLN\n+ opłata klimatyczna\n(6\,30 PLN osobo/dzień). \nW cenie :  \npokoje dwuosobowe\, \n3 posiłki ( śniadania i kolacje- stół szwedzki\, obiad – do stolików)\, \nkolacja wigilijna\, \nkolacja sylwestrowa\, \n2 zabiegi rehabilitacyjne ( w dni robocze)\, \ndojazd autokarem. \nZapisy chętnych wraz z zaliczką 1.000 PLN/osoba od dnia 20 sierpnia 2025 r. w godzinach pracy Biura Związku. \n Zarząd Związku
URL:https://emeryci.grodzisk.pl/event/turnus-swiateczno-noworoczny/
CATEGORIES:Wycieczka
END:VEVENT
BEGIN:VEVENT
DTSTART;TZID=Europe/Warsaw:20251018T080000
DTEND;TZID=Europe/Warsaw:20251028T170000
DTSTAMP:20260421T040134
CREATED:20250813T094724Z
LAST-MODIFIED:20250813T095000Z
UID:3898-1760774400-1761670800@emeryci.grodzisk.pl
SUMMARY:Turnus jesienny w Mrzeżynie
DESCRIPTION:Zarząd Związku Emerytów organizuje jesienny turnus rehabilitacyjno-wypoczynkowy\nnad morzem w Mrzeżynie w dniach od 18 do 28 października 2025 r.\nCena 2.000 PLN/osoba + opłata klimatyczna 30 PLN\, w tym: \n\npokoje dwuosobowe\,\n3 posiłki (śniadania i kolacje stół szwedzki)\,\n2 zabiegi dziennie (w dni robocze)\,\nbasen\ndostęp do strefy SPA odpłatnie\nZapisy od dnia 6 sierpnia 2025 r. wraz z pierwszą wpłatą w wysokości 500 PLN /osoba.
URL:https://emeryci.grodzisk.pl/event/turnus-jesienny-w-mrzezynie/
CATEGORIES:Wycieczka
END:VEVENT
BEGIN:VEVENT
DTSTART;TZID=Europe/Warsaw:20250914T000000
DTEND;TZID=Europe/Warsaw:20250919T235959
DTSTAMP:20260421T040134
CREATED:20250108T150302Z
LAST-MODIFIED:20250711T081933Z
UID:3195-1757808000-1758326399@emeryci.grodzisk.pl
SUMMARY:Wycieczka do Węgier
DESCRIPTION:Zarząd PZERiI\norganizuje wycieczkę autokarową do Węgier \nBUDAPESZT-EGER \nw terminie: 14-19 września 2025 r. \nW cenie wycieczki: \n\ntransport autokarem LUX\,\nzakwaterowanie: 5 noclegów w hotelu 3*\nwyżywienie: 5 śniadań\, 4 obiadokolacje\, 1 kolacja regionalna\,\nubezpieczenie KL\, NNW\nobsługa pilota-przewodnika.\n\nOdpłatność za wycieczkę  wynosi 2.450 PLN + 170 PLN wstępy. \nZapisy w Biurze Związku wraz z zaliczką 500 PLN/osoba. \nPROGRAM_WEGRY
URL:https://emeryci.grodzisk.pl/event/wycieczka-do-wegier/
CATEGORIES:Wycieczka
END:VEVENT
BEGIN:VEVENT
DTSTART;TZID=Europe/Warsaw:20250823T000000
DTEND;TZID=Europe/Warsaw:20250906T235959
DTSTAMP:20260421T040134
CREATED:20250108T154125Z
LAST-MODIFIED:20250121T145628Z
UID:3212-1755907200-1757203199@emeryci.grodzisk.pl
SUMMARY:Turnus w Mrzeżynie
DESCRIPTION:Zarząd PZERiI  organizuje \nturnus wypoczynkowo-rehabilitacyjny w Ośrodku Wypoczynkowym SUS\nw Mrzeżynie  w terminie: \n23 sierpnia-6 września 2025 r. \nW programie turnusu: \n\nTransport autokarem\,\n3 posiłki dziennie (śniadanie i kolacja w formie bufetu\, obiad serwowany)\,\nZakwaterowanie w pokojach dwuosobowych (TV\, czajnik elektryczny\, ręczniki)\, \n1 biesiada przy ognisku z pieczeniem kiełbasy i muzyką na żywo\,\n2 wieczorki taneczne z muzyką na żywo\,\nZdjęcie grupowe\,\n20 zabiegów w turnusie\, konsultacja lekarska\, opieka pielęgniarska\,\n\nOdpłatność za turnus wynosi 2.900 PLN + opłata klimatyczna\, płatna na miejscu. \nZapisy od 5 lutego 2025 r. w Biurze Związku wraz z zaliczką 500 PLN/osoba. Jedna osoba może zapisać 2 osoby\, będące członkami Związku.
URL:https://emeryci.grodzisk.pl/event/turnus-w-mrzezynie/
CATEGORIES:Wycieczka
END:VEVENT
BEGIN:VEVENT
DTSTART;TZID=Europe/Warsaw:20250804T000000
DTEND;TZID=Europe/Warsaw:20250814T235959
DTSTAMP:20260421T040134
CREATED:20250307T134400Z
LAST-MODIFIED:20250307T134412Z
UID:3406-1754265600-1755215999@emeryci.grodzisk.pl
SUMMARY:Turnus wypoczynkowy w Łebie
DESCRIPTION:Zarząd PZERiI organizuje \nturnus wypoczynkowy w Łebie w Rezydencji “Ambre” \nw dniach od 4 do 14 sierpnia 2025 r.  \nWysokość opłaty od osoby wynosi 2.750 PLN + opłata klimatyczna. \nZapisy od 5 marca 2025 r. w biurze Związku Emerytów. \nPrzy zapisie wpłata 500 PLN/osoba.
URL:https://emeryci.grodzisk.pl/event/leba-2025/
CATEGORIES:Wycieczka
END:VEVENT
BEGIN:VEVENT
DTSTART;TZID=Europe/Warsaw:20250702T000000
DTEND;TZID=Europe/Warsaw:20250712T235959
DTSTAMP:20260421T040134
CREATED:20250307T134248Z
LAST-MODIFIED:20250307T134306Z
UID:3403-1751414400-1752364799@emeryci.grodzisk.pl
SUMMARY:Turnus wypoczynkowy w Rewalu
DESCRIPTION:Zarząd PZERiI organizuje \nturnus wypoczynkowy w Rewalu \nw dniach od 02 do 12 lipca 2025 r. \nWysokość opłaty od osoby wynosi 2.450 PLN + opłata klimatyczna. \nZapisy od 5 marca 2025 r. w biurze Związku Emerytów. \nPrzy zapisie wpłata 500 PLN/osoba.
URL:https://emeryci.grodzisk.pl/event/rewal-2025/
CATEGORIES:Wycieczka
END:VEVENT
BEGIN:VEVENT
DTSTART;TZID=Europe/Warsaw:20250629T140000
DTEND;TZID=Europe/Warsaw:20250629T170000
DTSTAMP:20260421T040134
CREATED:20250129T113935Z
LAST-MODIFIED:20250213T122815Z
UID:3256-1751205600-1751216400@emeryci.grodzisk.pl
SUMMARY:WYJAZD DO TEATRU
DESCRIPTION:Zarząd PZERiI organizuje wyjazd  \ndo teatru Studio Buffo  \nna musical\n”Mistrz i Małgorzata” \nw dniu 29 czerwca 2025 r. godz.14:00. \nChętnych prosimy o zgłaszanie się do Biura Związku  \nod 5 do 12 lutego 2025 r. \nCena wyjazdu wraz z biletem 180 zł. Płatne przy zapisie.
URL:https://emeryci.grodzisk.pl/event/wyjazd-do-teatru-2/
CATEGORIES:Kultura
END:VEVENT
BEGIN:VEVENT
DTSTART;TZID=Europe/Warsaw:20250627T000000
DTEND;TZID=Europe/Warsaw:20250630T235959
DTSTAMP:20260421T040134
CREATED:20250213T114739Z
LAST-MODIFIED:20250214T141510Z
UID:3300-1750982400-1751327999@emeryci.grodzisk.pl
SUMMARY:WYCIECZKA DO ZAMOŚCIA
DESCRIPTION:Zarząd Związku Emerytów\, Rencistów i Inwalidów\nw Grodzisku Mazowieckim organizuje wycieczkę\ndo Zamościa w dniach 27-30.06.2025 r. /4 dni/ \nTrasa wycieczki: \n– Zamość \n– Krasnobród \n– Zwierzyniec \n– Szczebrzeszyn \n– Muzeum wsi Lubelskiej i inne \nCena wycieczki wraz z transportem i ubezpieczeniem 1100 zł/osoba. \nZapisy od 19.02.2025r. wraz z zaliczką w kwocie 500 zł \n  \n                             Zarząd Związku i Burmistrz Grodziska Mazowieckiego
URL:https://emeryci.grodzisk.pl/event/wycieczka-do-zamoscia/
CATEGORIES:Wycieczka
END:VEVENT
BEGIN:VEVENT
DTSTART;TZID=Europe/Warsaw:20250616T000000
DTEND;TZID=Europe/Warsaw:20250626T235959
DTSTAMP:20260421T040134
CREATED:20250307T134112Z
LAST-MODIFIED:20250513T184138Z
UID:3401-1750032000-1750982399@emeryci.grodzisk.pl
SUMMARY:Turnus rehabilitacyjno-wypoczynkowy w Okunince
DESCRIPTION:Zarząd PZERiI organizuje \nturnus rehabilitacyjno-wypoczynkowy w Okunince nad Jeziorem Białym \nw dniach od 16 do 26 czerwca 2025 r.  \nWysokość opłaty od osoby wynosi 2.450 PLN + opłata klimatyczna. \nW pakiecie:\n– 2 zabiegi dziennie w dni robocze;\n– 3 posiłki dziennie (śniadania i kolacje: stół szwedzki);\n– wypożyczalnia rowerów\, rowerów wodnych\, kajaków\, leżaków;\n– grill\, ognisko\, spotkanie integracyjne. \nDobre miejsce do odpoczynku i spacerów. \nZapisy w biurze Związku Emerytów.
URL:https://emeryci.grodzisk.pl/event/okuninka-2025/
CATEGORIES:Wycieczka
END:VEVENT
BEGIN:VEVENT
DTSTART;TZID=Europe/Warsaw:20250604T080000
DTEND;TZID=Europe/Warsaw:20250613T170000
DTSTAMP:20260421T040134
CREATED:20250430T090624Z
LAST-MODIFIED:20250513T182613Z
UID:3490-1749024000-1749834000@emeryci.grodzisk.pl
SUMMARY:CHORWACJA
DESCRIPTION:Wypoczynek nad Adriatykiem w Chorwacji w dniach od 4 do 13 czerwca 2025 r. Odpłatność od osoby 2970 PLN. Wyjazd organizowany przez Biuro Turystyczne FLORYN. \nChorwacja 4-13.06.2025
URL:https://emeryci.grodzisk.pl/event/chorwacja/
CATEGORIES:Wycieczka
END:VEVENT
BEGIN:VEVENT
DTSTART;TZID=Europe/Warsaw:20250531T000000
DTEND;TZID=Europe/Warsaw:20250531T235959
DTSTAMP:20260421T040134
CREATED:20250307T132339Z
LAST-MODIFIED:20250307T132339Z
UID:3391-1748649600-1748735999@emeryci.grodzisk.pl
SUMMARY:Wyjazd do Teatru Żydowskiego
DESCRIPTION:Zarząd PZERiI organizuje wyjazd do Teatru Żydowskiego na spektakl ”Narodziny Piękna” w dniu 31 maja 2025 r. o godz.19:00. Cena wyjazdu wraz z biletem: 120 zł. Płatne przy zapisie. Zapisy od 7 do 21 marca 2025 r. w Biurze Związku.
URL:https://emeryci.grodzisk.pl/event/wyjazd-do-teatru-zydowskiego/
CATEGORIES:Kultura
END:VEVENT
BEGIN:VEVENT
DTSTART;TZID=Europe/Warsaw:20250528T000000
DTEND;TZID=Europe/Warsaw:20250607T235959
DTSTAMP:20260421T040134
CREATED:20250307T133856Z
LAST-MODIFIED:20250307T133942Z
UID:3398-1748390400-1749340799@emeryci.grodzisk.pl
SUMMARY:Turnus wypoczynkowy w Rowach
DESCRIPTION:Zarząd PZERiI organizuje \nturnus wypoczynkowy \nw Rowach w Ośrodku “Wodnik” \nw dniach 28 maja – 7 czerwca 2025 r.  \nWysokość opłaty od osoby wynosi 2.550 PLN + opłata klimatyczna. \nPrzy zapisie I wpłata: 500 PLN. \nII wpłata w wysokości 1.000 PLN w terminie do 25 kwietnia 2025 r.  \nIII wpłata w wysokości 1.050 PLN w terminie do 5 maja 2025 r.
URL:https://emeryci.grodzisk.pl/event/rowy-2025/
CATEGORIES:Wycieczka
END:VEVENT
BEGIN:VEVENT
DTSTART;TZID=Europe/Warsaw:20250521T000000
DTEND;TZID=Europe/Warsaw:20250528T235959
DTSTAMP:20260421T040134
CREATED:20240908T161329Z
LAST-MODIFIED:20250617T155155Z
UID:2848-1747785600-1748476799@emeryci.grodzisk.pl
SUMMARY:Czarnogóra samolotem
DESCRIPTION:Wycieczka do Czarnogóry samolotem w dniach 21-28 maja 2025 r.  (8 dni) \nCena: 1790 PLN + 1400 bilet lotniczy + 230 PLN bagaż rejestrowany + około 55 EUR \nI wpłata 1700 PLN – do 20 lutego 2025 r. \n  \nŚwiadczenia w cenie: \n\n7 noclegów w jednym hotelu***\n7 śniadań\, 7 obiadokolacji z wodą do posiłków\nTransfer z lotniska do hotelu Podgorica-Bar-Podgorica\nWycieczki objęte programem\nBasen z jacuzzi w hotelu Adriana w Barze\nLodówka\, klimatyzacja oraz wi-fi  w pokojach w hotelu\nOpieka pilota\, ubezpieczenie podstawowe\nOpłata na ubezpieczeniowy fundusz gwarancyjny\nBagaż rejestrowany w obie strony – 20 kg i podręczny 8 kg.\nWylot z lotniska Chopina – Warszawa Okęcie.
URL:https://emeryci.grodzisk.pl/event/czarnogora-2025/
CATEGORIES:Wycieczka
END:VEVENT
BEGIN:VEVENT
DTSTART;TZID=Europe/Warsaw:20250509T000000
DTEND;TZID=Europe/Warsaw:20250516T235959
DTSTAMP:20260421T040134
CREATED:20250213T121948Z
LAST-MODIFIED:20250214T141517Z
UID:3309-1746748800-1747439999@emeryci.grodzisk.pl
SUMMARY:"CESARSKIE MIASTA" - MAROKO
DESCRIPTION:  \n“Cesarskie Miasta” – wycieczka samolotem w dniach 9-16 maja 2025 r. \nOstatnia wpłata najpóźniej do 26 marca 2025 r. \nPROGRAM_MAROKO \nUBEZPIECZENIE \nWarunki rezerwacji grupowych (1)
URL:https://emeryci.grodzisk.pl/event/cesarskie-miasta-maroko/
CATEGORIES:Wycieczka
END:VEVENT
BEGIN:VEVENT
DTSTART;TZID=Europe/Warsaw:20250417T000000
DTEND;TZID=Europe/Warsaw:20250423T235959
DTSTAMP:20260421T040134
CREATED:20250108T144837Z
LAST-MODIFIED:20250121T145522Z
UID:3186-1744848000-1745452799@emeryci.grodzisk.pl
SUMMARY:Turnus wielkanocny
DESCRIPTION:Zarząd PZERiI organizuje turnus wielkanocny\nw Ośrodku Wypoczynkowym HALNY w ZAKOPANEM\nw terminie: 17-23 kwietnia  2025 r. \n W cenie  turnusu: \n\nTransport autokarem\,\n3 posiłki dziennie\, świąteczne menu\, \nNoclegi w komfortowych pokojach.\n\nOdpłatność za turnus wynosi 1.800 PLN+ opłata klimatyczna\, płatna na miejscu. \nZapisy od 24 stycznia  2025 r. w Biurze  Związku  wraz z zaliczką 500 PLN/osoba.   \nJedna osoba może zapisać 2 osoby\, będące członkami Związku.
URL:https://emeryci.grodzisk.pl/event/turnus-wielkanocny-2/
CATEGORIES:Wycieczka
END:VEVENT
BEGIN:VEVENT
DTSTART;TZID=Europe/Warsaw:20250322T000000
DTEND;TZID=Europe/Warsaw:20250322T235959
DTSTAMP:20260421T040134
CREATED:20250108T153537Z
LAST-MODIFIED:20250307T133634Z
UID:3209-1742601600-1742687999@emeryci.grodzisk.pl
SUMMARY:Wyjazd do teatru
DESCRIPTION: WYJAZD DO TEATRU KOMEDIA \nZarząd PZERiI  organizuje wyjazd do Teatru Komedia w Warszawie\nna spektakl „Karnawał warszawski” w dniu 22 marca 2025 r.  \nZapisy od 10 do 22 stycznia 2025 r.  wraz z wpłatą 160 zł/osoba. \nWyjazd autokarem o godz. 13:15 z parkingu Centrum kultury.
URL:https://emeryci.grodzisk.pl/event/wyjazd-do-teatru/
CATEGORIES:Kultura
END:VEVENT
BEGIN:VEVENT
DTSTART;TZID=Europe/Warsaw:20250227T160000
DTEND;TZID=Europe/Warsaw:20250227T210000
DTSTAMP:20260421T040134
CREATED:20250103T094626Z
LAST-MODIFIED:20250129T103446Z
UID:3142-1740672000-1740690000@emeryci.grodzisk.pl
SUMMARY:Spotkanie integracyjne
DESCRIPTION:Zapraszamy  \nna spotkanie integracyjne\,\nktóre odbędzie się  \n27 lutego 2025 r. \nw godz. 16:00 – 21:00 \nw Hali Sportowo-Widowiskowej\nw Grodzisku Mazowieckim\nul. Sportowa 29. \nZaproszenia będą wydawane \nod 14 lutego   2025 r. \nCena zaproszenia: 30 zł od osoby. \nWejście na halę od strony parkingu\nod godz. 15:30. \nJedna osoba może wziąć maksymalnie\n2 zaproszenia. \nZarząd PZERiI
URL:https://emeryci.grodzisk.pl/event/zaproszenie-2/
CATEGORIES:Integracja
END:VEVENT
BEGIN:VEVENT
DTSTART;TZID=Europe/Warsaw:20250104T180000
DTEND;TZID=Europe/Warsaw:20250104T200000
DTSTAMP:20260421T040134
CREATED:20241204T130011Z
LAST-MODIFIED:20241204T183702Z
UID:3087-1736013600-1736020800@emeryci.grodzisk.pl
SUMMARY:Koncert wiedeński z gwiazdami
DESCRIPTION:Zapraszamy na KONCERT WIEDEŃSKI Z GWIAZDAMI \, który odbędzie się 4 stycznia 2025 r. o godz. 18:00 w Hali Widowiskowo-Sportowej w Grodzisku Mazowieckim ul. Sportowa 29. Cena biletów: 130-150 zł (w zależności od miejsca).Szczegółowe informacje w kasie Hali Sportowej.
URL:https://emeryci.grodzisk.pl/event/koncert-wiedenski-z-gwiazdami/
CATEGORIES:Kultura
END:VEVENT
BEGIN:VEVENT
DTSTART;TZID=Europe/Warsaw:20241229T000000
DTEND;TZID=Europe/Warsaw:20241229T235959
DTSTAMP:20260421T040134
CREATED:20240913T115724Z
LAST-MODIFIED:20250213T122652Z
UID:2876-1735430400-1735516799@emeryci.grodzisk.pl
SUMMARY:Teatr Studio Buffo
DESCRIPTION:Zapraszamy do teatru Studio Buffo na musical ” Wieczór latynoski w dniu 29 grudnia 2024 r. godz.19:00.
URL:https://emeryci.grodzisk.pl/event/teatr-studio-buffo-2/
CATEGORIES:Kultura
END:VEVENT
BEGIN:VEVENT
DTSTART;TZID=Europe/Warsaw:20241228T160000
DTEND;TZID=Europe/Warsaw:20241228T210000
DTSTAMP:20260421T040134
CREATED:20241204T184319Z
LAST-MODIFIED:20241204T184319Z
UID:3099-1735401600-1735419600@emeryci.grodzisk.pl
SUMMARY:Pożegnanie Starego Roku
DESCRIPTION:Zarząd PZERiI Oddział Rejonowy w Grodzisku Mazowieckim zaprasza na OSTATNIE SPOTKANIE INTEGRACYJNE W ROKU 2024 pn.“POŻEGNANIE STAREGO ROKU” do Hali Sportowo-Widowiskowej w Grodzisku Mazowieckim\, przy ul. Sportowej 29\, które odbędzie się w dniu 28 grudnia 2024 r.\, w godz. 16:00 – 21:00.\nZaproszenia będą wydawane od 11 grudnia 2024 r. Cena zaproszenia: 30 zł od osoby. Wejście na halę od strony parkingu od godz. 15:30. Jedna osoba może wziąć maksymalnie 2 zaproszenia.
URL:https://emeryci.grodzisk.pl/event/pozegnanie-starego-roku/
CATEGORIES:Integracja
END:VEVENT
BEGIN:VEVENT
DTSTART;TZID=Europe/Warsaw:20241228T160000
DTEND;TZID=Europe/Warsaw:20241228T210000
DTSTAMP:20260421T040134
CREATED:20241204T183309Z
LAST-MODIFIED:20241204T183551Z
UID:3096-1735401600-1735419600@emeryci.grodzisk.pl
SUMMARY:Pożegnane Starego Roku
DESCRIPTION:Zarząd PZERiI Oddział Rejonowy w Grodzisku Mazowieckim zaprasza na OSTATNIE SPOTKANIE INTEGRACYJNE W ROKU 2024 pn.“POŻEGNANIE STAREGO ROKU” do Hali Sportowo-Widowiskowej w Grodzisku Mazowieckim\, przy ul. Sportowej 29\, które odbędzie się w dniu 28 grudnia 2024 r.\, w godz. 16:00 – 21:00.\nZaproszenia będą wydawane od 11 grudnia 2024 r. Cena zaproszenia: 30 zł od osoby. Wejście na halę od strony parkingu od godz. 15:30. Jedna osoba może wziąć maksymalnie 2 zaproszenia.
URL:https://emeryci.grodzisk.pl/event/pozegnane-starego-roku/
CATEGORIES:Integracja
END:VEVENT
BEGIN:VEVENT
DTSTART;TZID=Europe/Warsaw:20241223T000000
DTEND;TZID=Europe/Warsaw:20250102T235959
DTSTAMP:20260421T040134
CREATED:20240811T180208Z
LAST-MODIFIED:20240913T120910Z
UID:2629-1734912000-1735862399@emeryci.grodzisk.pl
SUMMARY:Turnus Świąteczny 2024
DESCRIPTION:Zarząd Oddziału Rejonowego PZERiI w Grodzisku Maz. zaprasza na \nTurnus Świąteczno-Noworoczny z rehabilitacją\nw Ustce w Ośrodku “Włókniarz”\nod 23 grudnia 2024 do 2 stycznia 2025\nCena: 2500 zł/os.\nW cenie:\n– pokoje 2-osobowe z pełnym węzłem sanitarnym (w pokojach czajnik i ręczniki);\n– wyżywienie: 3 posiłki dziennie;\n– Kolacja Wigilijna z potrawami tradycyjnymi;\n– Zabawa Sylwestrowa z muzyką na żywo;\n– 2 zabiegi dziennie w dni robocze (wg wskazań lekarza). \nZapisy w Biurze Związku do 11 września 2024. Przy zapisie zaliczka 500 zł. \nUWAGA! Jeśli do 11 września nie zbierze się grupa 40 osób to nastąpi rezygnacja z wyjazdu.  \nZarząd PZERiI
URL:https://emeryci.grodzisk.pl/event/turnus-swiateczny-2024/
CATEGORIES:Wycieczka
END:VEVENT
BEGIN:VEVENT
DTSTART;TZID=Europe/Warsaw:20241219T000000
DTEND;TZID=Europe/Warsaw:20241219T235959
DTSTAMP:20260421T040134
CREATED:20240913T115210Z
LAST-MODIFIED:20240913T115210Z
UID:2872-1734566400-1734652799@emeryci.grodzisk.pl
SUMMARY:Teatr Studio Buffo
DESCRIPTION:Zapraszamy na  musical ” Metro” w dniu 19 grudnia 2024 r. o godz.19:00
URL:https://emeryci.grodzisk.pl/event/teatr-studio-buffo/
CATEGORIES:Kultura
END:VEVENT
END:VCALENDAR