BEGIN:VCALENDAR
VERSION:2.0
PRODID:-//Polski Związek Emerytów, Rencistów i Inwalidów w Grodzisku Mazowieckim - ECPv6.10.0//NONSGML v1.0//EN
CALSCALE:GREGORIAN
METHOD:PUBLISH
X-WR-CALNAME:Polski Związek Emerytów, Rencistów i Inwalidów w Grodzisku Mazowieckim
X-ORIGINAL-URL:https://emeryci.grodzisk.pl
X-WR-CALDESC:Events for Polski Związek Emerytów, Rencistów i Inwalidów w Grodzisku Mazowieckim
REFRESH-INTERVAL;VALUE=DURATION:PT1H
X-Robots-Tag:noindex
X-PUBLISHED-TTL:PT1H
BEGIN:VTIMEZONE
TZID:Europe/Warsaw
BEGIN:DAYLIGHT
TZOFFSETFROM:+0100
TZOFFSETTO:+0200
TZNAME:CEST
DTSTART:20230326T010000
END:DAYLIGHT
BEGIN:STANDARD
TZOFFSETFROM:+0200
TZOFFSETTO:+0100
TZNAME:CET
DTSTART:20231029T010000
END:STANDARD
BEGIN:DAYLIGHT
TZOFFSETFROM:+0100
TZOFFSETTO:+0200
TZNAME:CEST
DTSTART:20240331T010000
END:DAYLIGHT
BEGIN:STANDARD
TZOFFSETFROM:+0200
TZOFFSETTO:+0100
TZNAME:CET
DTSTART:20241027T010000
END:STANDARD
END:VTIMEZONE
BEGIN:VEVENT
DTSTART;TZID=Europe/Warsaw:20240615T080000
DTEND;TZID=Europe/Warsaw:20240615T210000
DTSTAMP:20260424T015211
CREATED:20240604T132443Z
LAST-MODIFIED:20240711T133633Z
UID:2400-1718438400-1718485200@emeryci.grodzisk.pl
SUMMARY:ZAPROSZENIE NA SENIORADĘ
DESCRIPTION:Zarząd Oddziału Rejonowego PZERiI\nzaprasza\nna II Grodziską Senioradę\,\nktóra odbędzie się 15 czerwca 2024 r. \nProsimy o przybycie  o godz. 13:50\nna plac przy Centrum Kultury przy ul. Spółdzielczej 9\,\nskąd nastąpi przemarsz do Hali Sportowo-Widowiskowej przy ul. Sportowej 29 \,\nw której realizowany będzie program Seniorady. \nW programie Seniorady: \n\n\n\n14:30- 15:50\nKonkurencje sportowe\, zwiedzanie stoisk;\n\n\n \nWarsztaty kulinarne „Zdrowie na talerzu seniora”;\n\n\n16:00-17:00\nPokazy klubów sportowych\, grup SAS\, pokazy mody sportowej;\n\n\n17:00\nWręczenie medali i dyplomów;\n\n\n17:30\nCiepły poczęstunek;\n\n\n17:30-21:00\nPotańcówka z zespołem Tomka Gedziarskiego\n\n\n\nSerdecznie zapraszamy i liczymy na Państwa udział. \nZarząd PZERiI
URL:https://emeryci.grodzisk.pl/event/zaproszenie/
CATEGORIES:Integracja
END:VEVENT
BEGIN:VEVENT
DTSTART;TZID=Europe/Warsaw:20240612T000000
DTEND;TZID=Europe/Warsaw:20240612T235959
DTSTAMP:20260424T015211
CREATED:20240119T203056Z
LAST-MODIFIED:20240125T151715Z
UID:1898-1718150400-1718236799@emeryci.grodzisk.pl
SUMMARY:Wycieczka jednodniowa do Ziołowego Zakątka
DESCRIPTION:Zarząd Związku Emerytów zaprasza na  jednodniową  wycieczkę\ndo Ziołowego Zakątka w Korycinach  \nw dniu 12 czerwca  2024 r. \nCena wycieczki:  160 zł/osoba \nW cenie wycieczki: transport\, ubezpieczenie\, zwiedzanie\, warsztaty\, obiad. \nW programie:  \n\nZwiedzanie Podlaskiego Ogrodu Ziołowego z przewodnikiem\,\nWarsztaty – własnoręczne komponowanie przypraw\,\nWarsztaty – własnoręczne wykonanie soli do kąpieli\,\nObiad\,\nCzas wolny na zakupy i osobiste obejrzenie darów natury\,\nPowrót do Grodziska Mazowieckiego\n\nUwaga! Swoje kompozycje przypraw oraz soli do kąpieli uczestnicy\nzabierają ze sobą. \nZapisy na wycieczkę wraz zaliczką w wysokości 60 zł od 22 marca  2024 r.\nZapisy przyjmuje i wycieczkę prowadzi Teresa Gańko \nNa wycieczkę zapraszają Zarząd PZERiI i Burmistrz Grodziska Mazowieckiego \nPROGRAM \n 
URL:https://emeryci.grodzisk.pl/event/wycieczka-jednodniowa-do-ziolowego-zakatka/
CATEGORIES:Wycieczka
END:VEVENT
BEGIN:VEVENT
DTSTART;TZID=Europe/Warsaw:20240608T000000
DTEND;TZID=Europe/Warsaw:20240614T235959
DTSTAMP:20260424T015211
CREATED:20231011T093925Z
LAST-MODIFIED:20240119T131539Z
UID:1106-1717804800-1718409599@emeryci.grodzisk.pl
SUMMARY:Wycieczka "Bałtyckie Białe Noce"
DESCRIPTION:Zarząd Rejonowy PZERiI w Grodzisku Mazowieckim oraz Biuro Turystyczne TAURI zapraszają na wycieczkę autokarową \n“BAŁTYCKIE BIAŁE NOCE” \nLITWA\, ŁOTWA\, ESTONIA\, FINLANDIA \n8-14 czerwca 2024 r. \nCena: 2380 zł + 120 € \nZapisy wraz z zaliczką 800 zł do 10 listopada 2023 r. \nZapisy i informacje:\nMieczysław Osiadacz\, tel. 600-244-842\noraz\nBiuro Związku\, Centrum Kultury\, ul. Spółdzielcza 9\, II piętro\, środy 10:00-13:00 i piątki 09:00-12:00 \nWycieczka także dla osób niezrzeszonych w PZERiI. \nSzczegółowy program
URL:https://emeryci.grodzisk.pl/event/wycieczka-baltyckie-biale-noce/
CATEGORIES:Wycieczka
END:VEVENT
BEGIN:VEVENT
DTSTART;TZID=Europe/Warsaw:20240601T000000
DTEND;TZID=Europe/Warsaw:20240610T235959
DTSTAMP:20260424T015211
CREATED:20240405T161739Z
LAST-MODIFIED:20240412T161956Z
UID:2247-1717200000-1718063999@emeryci.grodzisk.pl
SUMMARY:DOLINA POPRADU I WĘGRY PÓŁNOCNE
DESCRIPTION:Zarząd Oddziału Rejonowego PZERiI w Grodzisku Maz. organizuje wycieczkę \n„DOLINA POPRADU I WĘGRY PÓŁNOCNE”\nod 1 do 10 czerwca 2024\nCena: 1 950 zł\n  \nCENA OBEJMUJE: \n\ntransport autokarem\nwyżywienie: śniadania i obiadokolacje\nzakwaterowanie w Piwnicznej i Budapeszcie\nprzewodnika\nubezpieczenie\n\n * Cena nie zawiera: biletów wstępów do zwiedzanych obiektów oraz obowiązkowej opłaty miejscowej \nSzczegółowy program \n Zapisy w Biurze Związku.\nDostępne tylko 12 miejsc!
URL:https://emeryci.grodzisk.pl/event/dolina-popradu-i-wegry-polnocne/
CATEGORIES:Wycieczka
END:VEVENT
BEGIN:VEVENT
DTSTART;TZID=Europe/Warsaw:20240519T000000
DTEND;TZID=Europe/Warsaw:20240529T235959
DTSTAMP:20260424T015211
CREATED:20240106T093428Z
LAST-MODIFIED:20240205T180641Z
UID:1705-1716076800-1717027199@emeryci.grodzisk.pl
SUMMARY:Turnus wiosenny  w Rowach
DESCRIPTION:Zarząd PZERiI  organizuje wiosenny turnus wypoczynkowy w Rowach\, \nw Ośrodku Wypoczynkowym “WODNIK” \nw dniach 19 – 29 maja 2024 r. \nCena wyjazdu: 2100 zł/osoba + opłata klimatyczna 3 zł/osobodzień + dopłata 50 zł za transport \nZapisy od 24 stycznia 2024 r. Przy zapisie zaliczka w wysokości 500 zł.
URL:https://emeryci.grodzisk.pl/event/turnus-wypoczynkowy-w-rowach/
CATEGORIES:Wycieczka
END:VEVENT
BEGIN:VEVENT
DTSTART;TZID=Europe/Warsaw:20240516T160000
DTEND;TZID=Europe/Warsaw:20240516T210000
DTSTAMP:20260424T015211
CREATED:20240424T090124Z
LAST-MODIFIED:20240512T100818Z
UID:2315-1715875200-1715893200@emeryci.grodzisk.pl
SUMMARY:Spotkanie integracyjne
DESCRIPTION:Zarząd Rejonowy Związku Emerytów\, Rencistów i Inwalidów\nw Grodzisku Mazowieckim organizuje  \nSPOTKANIE INTEGRACYJNE \nw dniu 16 maja 2024 r. (czwartek) w godzinach 16:00 – 21:00\nw hallu Hali Widowiskowo-Sportowej w Grodzisku Mazowieckim\nKoszt: 30 zł/osoba\nZaproszenia będą wydawane \n\nod dnia 8 maja 2024 r. (środa) w godz. 10:00-13:00.\nZaproszenia będą wydawane tylko osobom z legitymacją członkowską\nz opłaconymi składkami. \nWejście na halę od strony parkingu od godz. 15:30. \n\nZarząd Związku i Burmistrz Grodziska Mazowieckiego
URL:https://emeryci.grodzisk.pl/event/spotkanie-integracyjne-5/
CATEGORIES:Integracja
END:VEVENT
BEGIN:VEVENT
DTSTART;TZID=Europe/Warsaw:20240515T000000
DTEND;TZID=Europe/Warsaw:20240515T235959
DTSTAMP:20260424T015211
CREATED:20240228T093128Z
LAST-MODIFIED:20240512T100912Z
UID:2178-1715731200-1715817599@emeryci.grodzisk.pl
SUMMARY:Wycieczka do Kłodawy i Łęczycy
DESCRIPTION:Ogłoszenie \nZarząd Oddziału Rejonowego PZERiI w Grodzisku Maz. \norganizuje jednodniową wycieczkę do Kłodawy oraz Łęczycy w dniu 15.05.2024r.  \nCena wycieczki z transportem: 160 zł/osoba \nW programie: \n– zwiedzanie i zjazd do Kopalni Soli w Kłodawie \n– obiad \n– zwiedzanie Zamku Boruty w Łęczycy \nWyjazd 15.05.2024r (środa) o godz. 6:30 z parkingu Centrum Kultury. \n  \n                                                                             Zarząd Związku i Burmistrz Grodziska Mazowieckiego \n 
URL:https://emeryci.grodzisk.pl/event/wycieczka-do-klodawy-i-leczycy/
CATEGORIES:Wycieczka
END:VEVENT
BEGIN:VEVENT
DTSTART;TZID=Europe/Warsaw:20240504T000000
DTEND;TZID=Europe/Warsaw:20240511T235959
DTSTAMP:20260424T015211
CREATED:20231018T092133Z
LAST-MODIFIED:20240119T131602Z
UID:1362-1714780800-1715471999@emeryci.grodzisk.pl
SUMMARY:GRUZJA wycieczka samolotowa "Batumi Herbatumi"
DESCRIPTION:Zarząd Rejonowy Związku Emerytów\, Rencistów i Inwalidów w Grodzisku Mazowieckim zaprasza na 8-dniową wycieczkę samolotem w dniach od 04 do 11 maja 2024 r. \nTrasa: Kutaisi • Mccheta • Tbilisi • Signagi • Monastyr Bodbe • Ananuri • Gruzińska Droga Wojenna • Kazbegi • Gergeti • Upliscyche • Mocameta • Batumi \nCena wycieczki: 3 600 zł +132 EUR \nLiczba miejsc: 30 \nSzczegółowych informacji udziela oraz prowadzi zapisy  pani Teresa Gańko od dnia 25 października 2023 r. do 29 listopada 2023 r. w Biurze PZERiI w godzinach urzędowania.  \nPrzy zapisie należy wpłacić zaliczkę w wysokości: 750 zł/osoba. Tel. 600 976 142. \nGruzja plan wycieczki
URL:https://emeryci.grodzisk.pl/event/gruzja-wycieczka-samolotowa-batumi-herbatumi/
CATEGORIES:Wycieczka
END:VEVENT
BEGIN:VEVENT
DTSTART;TZID=Europe/Warsaw:20240425T000000
DTEND;TZID=Europe/Warsaw:20240425T235959
DTSTAMP:20260424T015211
CREATED:20240226T125803Z
LAST-MODIFIED:20240226T125803Z
UID:2172-1714003200-1714089599@emeryci.grodzisk.pl
SUMMARY:Pielgrzymka do Częstochowy
DESCRIPTION:Pielgrzymka do Częstochowy w dniu 25 kwietnia 2024 r. \nZapisy od 10 kwietnia 2024 r. wraz z wpłatą 60 zł/osoba. \nWyjazd o godz. 6:30 z parkingu CK przy Spółdzielczej 9
URL:https://emeryci.grodzisk.pl/event/pielgrzymka-do-czestochowy/
END:VEVENT
BEGIN:VEVENT
DTSTART;TZID=Europe/Warsaw:20240415T160000
DTEND;TZID=Europe/Warsaw:20240415T210000
DTSTAMP:20260424T015211
CREATED:20240310T111347Z
LAST-MODIFIED:20240310T111347Z
UID:2191-1713196800-1713214800@emeryci.grodzisk.pl
SUMMARY:Spotkanie Integracyjne
DESCRIPTION:Zarząd Polskiego Związku Emerytów\, Rencistów i Inwalidów\nOddział Rejonowy w Grodzisku Mazowieckim \nZAPRASZA NA SPOTKANIE INTEGRACYJNE \ndo  Hali Sportowo-Widowiskowej w Grodzisku Mazowieckim przy ul. Sportowej 29\,\nktóre odbędzie się 15 kwietnia 2024 r. (poniedziałek) w godz. 16:00 – 21:00.\nZaproszenia będą wydawane od 22 marca 2024 r. (piątek). Cena zaproszenia: 30 zł od osoby. \nWejście na Halę od strony parkingu od godz. 15:30 za okazaniem zaproszenia z legitymacją członkowską.
URL:https://emeryci.grodzisk.pl/event/spotkanie-integracyjne-4/
CATEGORIES:Integracja
END:VEVENT
BEGIN:VEVENT
DTSTART;TZID=Europe/Warsaw:20240327T000000
DTEND;TZID=Europe/Warsaw:20240406T235959
DTSTAMP:20260424T015211
CREATED:20240105T204551Z
LAST-MODIFIED:20240318T095014Z
UID:1689-1711497600-1712447999@emeryci.grodzisk.pl
SUMMARY:TURNUS WIELKANOCNY w Dźwirzynie
DESCRIPTION:Zarząd PZERiI organizuje wyjazd na turnus Wielkanocny z rehabilitacją \nw dniach od 27 marca  do 06 kwietnia 2024 r. \nw Ośrodku Wypoczynkowym “POSEJDON” w Dźwirzynie. \nCena wyjazdu: 1900 zł od osoby + opłata klimatyczna. \nII ratę w wysokości 1400 zł + opłata klimatyczna w wysokości 2 zł/osobodzień należy wpłacić do dnia 16 lutego 2024 r. (piątek) \nWyjazd dnia 27 marca 2024 r. (środa) o godz. 7:00 z parkingu Centrum Kultury.
URL:https://emeryci.grodzisk.pl/event/turnus-wielkanocny/
CATEGORIES:Wycieczka
END:VEVENT
BEGIN:VEVENT
DTSTART;TZID=Europe/Warsaw:20240308T000000
DTEND;TZID=Europe/Warsaw:20240308T235959
DTSTAMP:20260424T015211
CREATED:20240216T082521Z
LAST-MODIFIED:20240226T125254Z
UID:2109-1709856000-1709942399@emeryci.grodzisk.pl
SUMMARY:Wyjazd do Teatru Żydowskiego w Warszawie
DESCRIPTION:OGŁOSZENIE \nZapraszamy na spektakl muzyczny \nSZLAGIERY ŻYDOWSKIEGO KABARETU \ndo Teatru Żydowskiego w Warszawie \nw dniu 8 marca 2024 r. \nZapisy od dnia 21 lutego 2024 r. \nCena biletu: 80 zł/ osoba \nZarząd PZERiI
URL:https://emeryci.grodzisk.pl/event/teatr-zydowski/
CATEGORIES:Kultura
END:VEVENT
BEGIN:VEVENT
DTSTART;TZID=Europe/Warsaw:20240228T000000
DTEND;TZID=Europe/Warsaw:20240228T235959
DTSTAMP:20260424T015211
CREATED:20240110T112149Z
LAST-MODIFIED:20240226T122933Z
UID:1795-1709078400-1709164799@emeryci.grodzisk.pl
SUMMARY:Wyjazd do Teatru Komedia w Warszawie
DESCRIPTION:
URL:https://emeryci.grodzisk.pl/event/teatr-komedia/
CATEGORIES:Kultura
END:VEVENT
BEGIN:VEVENT
DTSTART;TZID=Europe/Warsaw:20240208T160000
DTEND;TZID=Europe/Warsaw:20240208T210000
DTSTAMP:20260424T015211
CREATED:20240119T092026Z
LAST-MODIFIED:20240322T092124Z
UID:1868-1707408000-1707426000@emeryci.grodzisk.pl
SUMMARY:Spotkanie Integracyjne Tłusty Czwartek
DESCRIPTION:
URL:https://emeryci.grodzisk.pl/event/spotkanie-integracyjne-tlusty-czwartek/
CATEGORIES:Integracja
END:VEVENT
BEGIN:VEVENT
DTSTART;TZID=Europe/Warsaw:20240123T160000
DTEND;TZID=Europe/Warsaw:20240123T210000
DTSTAMP:20260424T015211
CREATED:20240105T161645Z
LAST-MODIFIED:20240109T120208Z
UID:1671-1706025600-1706043600@emeryci.grodzisk.pl
SUMMARY:Spotkanie integracyjne
DESCRIPTION:ZAPROSZENIE \nZarząd Polskiego Związku Emerytów\, Rencistów i Inwalidów\nOddział Rejonowy w Grodzisku Mazowieckim \nZAPRASZA NA POWITANIE NOWEGO ROKU  \ndo  Hali Sportowo-Widowiskowej w Grodzisku Mazowieckim przy ul. Sportowej 29\,\nktóre odbędzie się 23 stycznia 2024 r. (wtorek)\, w godz. 16:00 – 21:00.\nZaproszenia będą wydawane od 12 stycznia  2024 r. Cena zaproszenia: 30 zł od osoby. \nWejście na Halę od strony parkingu od godz. 15:30 za okazaniem zaproszenia z legitymacją członkowską. \nOrganizatorzy: Zarząd Związku i Burmistrz Grodziska Mazowieckiego
URL:https://emeryci.grodzisk.pl/event/spotkanie-integracyjne-3/
CATEGORIES:Integracja
END:VEVENT
BEGIN:VEVENT
DTSTART;TZID=Europe/Warsaw:20231223T000000
DTEND;TZID=Europe/Warsaw:20240102T235959
DTSTAMP:20260424T015211
CREATED:20231122T112207Z
LAST-MODIFIED:20231220T100037Z
UID:1496-1703289600-1704239999@emeryci.grodzisk.pl
SUMMARY:Turnus Świąteczno-Noworoczny w Krynicy-Zdrój
DESCRIPTION:Zarząd PZERiI organizuje Turnus Świąteczno-Noworoczny  \nw Krynicy-Zdrój (Sanatorium Uzdrowiskowe LEŚNIK – DRZEWIARZ)  \nod 23 grudnia 2023 r. do 02 stycznia 2024 r. \nCena wyjazdu: 2 550 zł \nCena zawiera: \n\n\nzakwaterowanie w pokojach 2-osobowych z łazienkami i TV\, \n\n\n3 posiłki dziennie\, \n\n\nWieczerza Wigilijna przy wspólnym stole\, \n\n\nświąteczne menu\, \n\n\nBal Sylwestrowy z ciepłymi posiłkami i zimną płytą\, przy muzyce\, \n\n\nspacery i wycieczki piesze po okolicy\, \n\n\nopieka pilota – rezydenta\, \n\n\ntransport autokarem\, ubezpieczenie NNW \n\n\nDodatkowo płatne (na miejscu): opłata klimatyczna \nZapisy w Biurze Związku. \nWyjazd w dniu 23 grudnia 2023 r. (sobota) o godz. 6:00 rano z parkingu przy Centrum Kultury.
URL:https://emeryci.grodzisk.pl/event/turnus-swiateczno-noworoczny-w-krynicy-zdroj/
CATEGORIES:Wycieczka
END:VEVENT
BEGIN:VEVENT
DTSTART;TZID=Europe/Warsaw:20231201T000000
DTEND;TZID=Europe/Warsaw:20231201T235959
DTSTAMP:20260424T015211
CREATED:20230906T095834Z
LAST-MODIFIED:20231018T101924Z
UID:974-1701388800-1701475199@emeryci.grodzisk.pl
SUMMARY:Operetka „Kraina Uśmiechu” w Mazowieckim Teatrze Muzycznym w Warszawie
DESCRIPTION:Zarząd Rejonowy Związku Emerytów\, Rencistów i Inwalidów w Grodzisku Mazowieckim organizuje wyjazd w dniu 1 grudnia 2023 r. do Mazowieckiego Teatru Muzycznego w Warszawie na operetkę pt. „Kraina Uśmiechu” (początek o godz. 19:00). Opis: https://www.mteatr.pl/pl/kraina-usmiechuKoszt wyjazdu (teatr plus transport): 140 zł. Wyjazd z parkingu przy C.K. o godz. 17:15. Zapisy w biurze Związku od 30.08.2023. Wpłaty przyjmuje: Roman Dziewoński. \nBrak biletów
URL:https://emeryci.grodzisk.pl/event/operetka-kraina-usmiechu-w-mazowieckim-teatrze-muzycznym-w-warszawie/
CATEGORIES:Kultura
END:VEVENT
BEGIN:VEVENT
DTSTART;TZID=Europe/Warsaw:20231128T160000
DTEND;TZID=Europe/Warsaw:20231128T210000
DTSTAMP:20260424T015211
CREATED:20231025T095754Z
LAST-MODIFIED:20231025T100116Z
UID:1400-1701187200-1701205200@emeryci.grodzisk.pl
SUMMARY:Spotkanie Integracyjne
DESCRIPTION:Zarząd Rejonowy Związku Emerytów\, Rencistów i Inwalidów w Grodzisku Mazowieckim organizuje \nSPOTKANIE INTEGRACYJNE\nw dniu 28 listopada 2023 r. (wtorek) w godzinach 16:00 – 21:00\nw hallu Hali Widowiskowo-Sportowej w Grodzisku Mazowieckim\nKoszt: 30 zł/os.\nZaproszenia będą wydawane w dniu 17 listopada 2023 r. (piątek) w godz. 9:00-12:00.\nZaproszenia będą wydawane tylko osobom z legitymacją członkowską z opłaconymi składkami. \nWejście na halę od strony parkingu od godz. 15:30.
URL:https://emeryci.grodzisk.pl/event/spotkanie-integracyjne-2/
CATEGORIES:Integracja
END:VEVENT
BEGIN:VEVENT
DTSTART;TZID=Europe/Warsaw:20231119T000000
DTEND;TZID=Europe/Warsaw:20231119T235959
DTSTAMP:20260424T015211
CREATED:20230927T094010Z
LAST-MODIFIED:20231011T151441Z
UID:1113-1700352000-1700438399@emeryci.grodzisk.pl
SUMMARY:Spektakl „Powiedzmy miłość” w Teatrze Komedia w Warszawie
DESCRIPTION:Zarząd Rejonowy Związku Emerytów\, Rencistów i Inwalidów w Grodzisku Mazowieckim organizuje wyjazd do Teatru Komedia w Warszawie na spektakl pt. „Powiedzmy miłość” w dniu 19 listopada 2023 r. o godz. 16:00. \nOpis spektaklu: https://teatrkomedia.pl/spektakle/powiedzmy-milosc/ \nKoszt wyjazdu z dopłatą do transportu – 110 zł. \nWpłaty w Biurze Związku od 4 października 2023 r. przyjmuje Roman Dziewoński. \nWyjazd z parkingu Centrum Kultury w dniu 19 listopada 2023 r. (niedziela) o godz. 14:00.
URL:https://emeryci.grodzisk.pl/event/spektakl-powiedzmy-milosc-w-teatrze-komedia-w-warszawie/
CATEGORIES:Kultura
END:VEVENT
BEGIN:VEVENT
DTSTART;TZID=Europe/Warsaw:20231103T000000
DTEND;TZID=Europe/Warsaw:20231116T235959
DTSTAMP:20260424T015211
CREATED:20230910T162427Z
LAST-MODIFIED:20231025T093303Z
UID:1017-1698969600-1700179199@emeryci.grodzisk.pl
SUMMARY:Wyjazd do Mielna\, ośrodek FLORYN
DESCRIPTION:Zarząd Rejonowy Związku Emerytów\, Rencistów i Inwalidów w Grodzisku Mazowieckim organizuje\nTURNUS WYPOCZYNKOWO-REHABILITACYJNY w Mielnie\nTermin: 3-16 listopada 2023\nKoszt: 1960 zł plus opłata klimatyczna (2 zł/os./dzień) \nUczestnikom turnusu zapewniamy:\n– transport\n– zakwaterowanie w pokojach 2-3 osobowych lub typu studio 2+2 z pełnym węzłem sanitarnym\n– całodzienne wyżywienie\n– bogaty program rozrywkowo-rekreacyjny\n– 30 zabiegów rehabilitacyjnych\n– profesjonalną opiekę medyczną\nPrzy zapisie zaliczka 500 zł. \nWyjazd w dniu 3 listopada 2023 r. (piątek) o godz. 6:00 rano z parkingu przy Centrum Kultury.
URL:https://emeryci.grodzisk.pl/event/wyjazd-do-mielna-osrodek-floryn/
CATEGORIES:Wycieczka
END:VEVENT
BEGIN:VEVENT
DTSTART;TZID=Europe/Warsaw:20231022T160000
DTEND;TZID=Europe/Warsaw:20231022T210000
DTSTAMP:20260424T015211
CREATED:20230927T093720Z
LAST-MODIFIED:20231008T121701Z
UID:1110-1697990400-1698008400@emeryci.grodzisk.pl
SUMMARY:BAL SENIORA
DESCRIPTION:Burmistrz Grodziska Mazowieckiego\, Rada Miejska\, Gminna Rada Seniorów\, Związek Emerytów i Ośrodek Kultury zapraszają na BAL SENIORA w dniu 22 października 2023 r. w godz. 16:00-21:00 do Hali Sportowo-Widowiskowej w Grodzisku Mazowieckim przy ul. Sportowej 29.\nBezpłatne zaproszenia dla członków Związku do odbioru od 6 października 2023 r. w siedzibie Związku Emerytów w Grodzisku Mazowieckim ul. Spółdzielcza 9 (II piętro) w godzinach urzędowania Związku. Ilość miejsc ograniczona. \nOstatnie zaproszenia będą wydawane w dniu 11 października 2023 r. (środa) w godzinach 10:00-12:00. \nZapraszamy!
URL:https://emeryci.grodzisk.pl/event/bal-seniora/
CATEGORIES:Integracja
END:VEVENT
BEGIN:VEVENT
DTSTART;TZID=Europe/Warsaw:20231015T000000
DTEND;TZID=Europe/Warsaw:20231015T235959
DTSTAMP:20260424T015211
CREATED:20230906T095725Z
LAST-MODIFIED:20231018T102022Z
UID:972-1697328000-1697414399@emeryci.grodzisk.pl
SUMMARY:Spektakl „Czy Ty to TY” w Teatrze Muzycznym w Łodzi
DESCRIPTION:Wyjazd w dniu 15 października 2023 r. do Teatru Muzycznego w Łodzi na spektakl pt. „Czy Ty to TY”.\nOpis spektaklu: https://www.teatr-muzyczny.lodz.pl/czy-ty-ty\nKoszt wyjazdu (teatr plus transport): 130 zł.\nPoczątek spektaklu o godz. 16:00. Wyjazd z parkingu przy C.K. o godz. 14:00.\nZapisy w biurze Związku od 30.08.2023.\nOrganizator wycieczki: Roman Dziewoński. \nBrak biletów.
URL:https://emeryci.grodzisk.pl/event/spektakl-czy-ty-to-ty-w-teatrze-muzycznym-w-lodzi/
CATEGORIES:Kultura
END:VEVENT
BEGIN:VEVENT
DTSTART;TZID=Europe/Warsaw:20230924T000000
DTEND;TZID=Europe/Warsaw:20231001T235959
DTSTAMP:20260424T015211
CREATED:20230922T091259Z
LAST-MODIFIED:20230927T164212Z
UID:1099-1695513600-1696204799@emeryci.grodzisk.pl
SUMMARY:Wycieczka do Lądka Zdroju
DESCRIPTION:
URL:https://emeryci.grodzisk.pl/event/wycieczka-do-ladka-zdroju/
CATEGORIES:Wycieczka
END:VEVENT
BEGIN:VEVENT
DTSTART;TZID=Europe/Warsaw:20230920T160000
DTEND;TZID=Europe/Warsaw:20230920T210000
DTSTAMP:20260424T015211
CREATED:20230906T091317Z
LAST-MODIFIED:20230910T164110Z
UID:917-1695225600-1695243600@emeryci.grodzisk.pl
SUMMARY:Spotkanie integracyjne\, Hala Widowiskowo-Sportowa
DESCRIPTION:20.09.2023\, godz. 16:00-21:00. \nKoszt: 30 zł/os. Zaproszenia będą wydawane w dniu 13 września 2023 r. \nWejście na halę od strony parkingu od godz. 15:30.
URL:https://emeryci.grodzisk.pl/event/spotkanie-integracyjne/
CATEGORIES:Integracja
END:VEVENT
BEGIN:VEVENT
DTSTART;TZID=Europe/Warsaw:20230910T000000
DTEND;TZID=Europe/Warsaw:20230919T235959
DTSTAMP:20260424T015211
CREATED:20230829T152028Z
LAST-MODIFIED:20230910T163211Z
UID:658-1694304000-1695167999@emeryci.grodzisk.pl
SUMMARY:Wyjazd do Okuninki\, Jezioro Białe
DESCRIPTION:TURNUS WYPOCZYNKOWO-REHABILITACYJNY\n10-19 września 2023 \nKoszt: 1770 zł plus opłata klimatyczna \nW cenie:\n– transport\n– zakwaterowanie w pawilonie (pokoje 2-osobowe) lub w domkach z ogrzewaniem\n– wyżywienie: śniadania i kolacje w formie bufetu\, obiady serwowane\n– 16 zabiegów w turnusie (dwa zabiegi rehabilitacyjne dziennie wg. wskazań lekarza)\n– ognisko z pieczeniem kiełbasek\n– wieczorki taneczne\n– 1 kolacja plenerowa\n– codzienne poranne zajęcia ogólnousprawniające\n– wycieczka do Włodawy\n– zakupy w sklepie firmowym huty szkła Dubeczno\n– wyjście na grzyby (są suszarki do suszenia grzybów)\n– jezioro czyste\, duża plaża\, rowery wodne\, kajaki\, leżaki\n– bar na terenie ośrodka.
URL:https://emeryci.grodzisk.pl/event/okuninka-jezioro-biale/
CATEGORIES:Wycieczka
END:VEVENT
BEGIN:VEVENT
DTSTART;TZID=Europe/Warsaw:20230909T000000
DTEND;TZID=Europe/Warsaw:20230918T235959
DTSTAMP:20260424T015211
CREATED:20230906T092145Z
LAST-MODIFIED:20230910T083008Z
UID:962-1694217600-1695081599@emeryci.grodzisk.pl
SUMMARY:Wycieczka do Chorwacji
DESCRIPTION:
URL:https://emeryci.grodzisk.pl/event/wycieczka-do-chorwacji/
CATEGORIES:Wycieczka
END:VEVENT
BEGIN:VEVENT
DTSTART;TZID=Europe/Warsaw:20230909T000000
DTEND;TZID=Europe/Warsaw:20230909T235959
DTSTAMP:20260424T015211
CREATED:20230830T095833Z
LAST-MODIFIED:20230910T164246Z
UID:702-1694217600-1694303999@emeryci.grodzisk.pl
SUMMARY:Wycieczka Wilanów – Kąck
DESCRIPTION:Koszt: 130 zł. \nW programie:\n– zwiedzanie Świątyni Opatrzności Bożej\n– wypoczynek nad kąpieliskiem wodnym (plaża\, kajaki\, rowery)\n– obiad i zabawa taneczna\nZapisy od 18-08-2023 r do 06-09.\nWyjazd 09-09-2023 r. z parkingu C.K. o godz. 7:00.\nWycieczkę prowadzi Henryk Gontarczyk.
URL:https://emeryci.grodzisk.pl/event/wycieczka-wilanow-kack/
CATEGORIES:Wycieczka
END:VEVENT
BEGIN:VEVENT
DTSTART;TZID=Europe/Warsaw:20230902T000000
DTEND;TZID=Europe/Warsaw:20230907T235959
DTSTAMP:20260424T015211
CREATED:20230829T151920Z
LAST-MODIFIED:20230910T164329Z
UID:656-1693612800-1694131199@emeryci.grodzisk.pl
SUMMARY:WYCIECZKA DO WŁOCH
DESCRIPTION:WENECJA-RZYM-WATYKAN-FLORENCJA
URL:https://emeryci.grodzisk.pl/event/wycieczka-do-wloch/
CATEGORIES:Wycieczka
END:VEVENT
END:VCALENDAR