BEGIN:VCALENDAR
VERSION:2.0
PRODID:-//Polski Związek Emerytów, Rencistów i Inwalidów w Grodzisku Mazowieckim - ECPv6.10.0//NONSGML v1.0//EN
CALSCALE:GREGORIAN
METHOD:PUBLISH
X-ORIGINAL-URL:https://emeryci.grodzisk.pl
X-WR-CALDESC:Events for Polski Związek Emerytów, Rencistów i Inwalidów w Grodzisku Mazowieckim
REFRESH-INTERVAL;VALUE=DURATION:PT1H
X-Robots-Tag:noindex
X-PUBLISHED-TTL:PT1H
BEGIN:VTIMEZONE
TZID:Europe/Warsaw
BEGIN:DAYLIGHT
TZOFFSETFROM:+0100
TZOFFSETTO:+0200
TZNAME:CEST
DTSTART:20240331T010000
END:DAYLIGHT
BEGIN:STANDARD
TZOFFSETFROM:+0200
TZOFFSETTO:+0100
TZNAME:CET
DTSTART:20241027T010000
END:STANDARD
END:VTIMEZONE
BEGIN:VEVENT
DTSTART;TZID=Europe/Warsaw:20240327T000000
DTEND;TZID=Europe/Warsaw:20240406T235959
DTSTAMP:20260424T071426
CREATED:20240105T204551Z
LAST-MODIFIED:20240318T095014Z
UID:1689-1711497600-1712447999@emeryci.grodzisk.pl
SUMMARY:TURNUS WIELKANOCNY w Dźwirzynie
DESCRIPTION:Zarząd PZERiI organizuje wyjazd na turnus Wielkanocny z rehabilitacją \nw dniach od 27 marca  do 06 kwietnia 2024 r. \nw Ośrodku Wypoczynkowym “POSEJDON” w Dźwirzynie. \nCena wyjazdu: 1900 zł od osoby + opłata klimatyczna. \nII ratę w wysokości 1400 zł + opłata klimatyczna w wysokości 2 zł/osobodzień należy wpłacić do dnia 16 lutego 2024 r. (piątek) \nWyjazd dnia 27 marca 2024 r. (środa) o godz. 7:00 z parkingu Centrum Kultury.
URL:https://emeryci.grodzisk.pl/event/turnus-wielkanocny/
CATEGORIES:Wycieczka
END:VEVENT
BEGIN:VEVENT
DTSTART;TZID=Europe/Warsaw:20240415T160000
DTEND;TZID=Europe/Warsaw:20240415T210000
DTSTAMP:20260424T071426
CREATED:20240310T111347Z
LAST-MODIFIED:20240310T111347Z
UID:2191-1713196800-1713214800@emeryci.grodzisk.pl
SUMMARY:Spotkanie Integracyjne
DESCRIPTION:Zarząd Polskiego Związku Emerytów\, Rencistów i Inwalidów\nOddział Rejonowy w Grodzisku Mazowieckim \nZAPRASZA NA SPOTKANIE INTEGRACYJNE \ndo  Hali Sportowo-Widowiskowej w Grodzisku Mazowieckim przy ul. Sportowej 29\,\nktóre odbędzie się 15 kwietnia 2024 r. (poniedziałek) w godz. 16:00 – 21:00.\nZaproszenia będą wydawane od 22 marca 2024 r. (piątek). Cena zaproszenia: 30 zł od osoby. \nWejście na Halę od strony parkingu od godz. 15:30 za okazaniem zaproszenia z legitymacją członkowską.
URL:https://emeryci.grodzisk.pl/event/spotkanie-integracyjne-4/
CATEGORIES:Integracja
END:VEVENT
BEGIN:VEVENT
DTSTART;TZID=Europe/Warsaw:20240425T000000
DTEND;TZID=Europe/Warsaw:20240425T235959
DTSTAMP:20260424T071426
CREATED:20240226T125803Z
LAST-MODIFIED:20240226T125803Z
UID:2172-1714003200-1714089599@emeryci.grodzisk.pl
SUMMARY:Pielgrzymka do Częstochowy
DESCRIPTION:Pielgrzymka do Częstochowy w dniu 25 kwietnia 2024 r. \nZapisy od 10 kwietnia 2024 r. wraz z wpłatą 60 zł/osoba. \nWyjazd o godz. 6:30 z parkingu CK przy Spółdzielczej 9
URL:https://emeryci.grodzisk.pl/event/pielgrzymka-do-czestochowy/
END:VEVENT
END:VCALENDAR