BEGIN:VCALENDAR
VERSION:2.0
PRODID:-//Polski Związek Emerytów, Rencistów i Inwalidów w Grodzisku Mazowieckim - ECPv6.10.0//NONSGML v1.0//EN
CALSCALE:GREGORIAN
METHOD:PUBLISH
X-ORIGINAL-URL:https://emeryci.grodzisk.pl
X-WR-CALDESC:Events for Polski Związek Emerytów, Rencistów i Inwalidów w Grodzisku Mazowieckim
REFRESH-INTERVAL;VALUE=DURATION:PT1H
X-Robots-Tag:noindex
X-PUBLISHED-TTL:PT1H
BEGIN:VTIMEZONE
TZID:Europe/Warsaw
BEGIN:DAYLIGHT
TZOFFSETFROM:+0100
TZOFFSETTO:+0200
TZNAME:CEST
DTSTART:20240331T010000
END:DAYLIGHT
BEGIN:STANDARD
TZOFFSETFROM:+0200
TZOFFSETTO:+0100
TZNAME:CET
DTSTART:20241027T010000
END:STANDARD
END:VTIMEZONE
BEGIN:VEVENT
DTSTART;TZID=Europe/Warsaw:20240504T000000
DTEND;TZID=Europe/Warsaw:20240511T235959
DTSTAMP:20260418T233331
CREATED:20231018T092133Z
LAST-MODIFIED:20240119T131602Z
UID:1362-1714780800-1715471999@emeryci.grodzisk.pl
SUMMARY:GRUZJA wycieczka samolotowa "Batumi Herbatumi"
DESCRIPTION:Zarząd Rejonowy Związku Emerytów\, Rencistów i Inwalidów w Grodzisku Mazowieckim zaprasza na 8-dniową wycieczkę samolotem w dniach od 04 do 11 maja 2024 r. \nTrasa: Kutaisi • Mccheta • Tbilisi • Signagi • Monastyr Bodbe • Ananuri • Gruzińska Droga Wojenna • Kazbegi • Gergeti • Upliscyche • Mocameta • Batumi \nCena wycieczki: 3 600 zł +132 EUR \nLiczba miejsc: 30 \nSzczegółowych informacji udziela oraz prowadzi zapisy  pani Teresa Gańko od dnia 25 października 2023 r. do 29 listopada 2023 r. w Biurze PZERiI w godzinach urzędowania.  \nPrzy zapisie należy wpłacić zaliczkę w wysokości: 750 zł/osoba. Tel. 600 976 142. \nGruzja plan wycieczki
URL:https://emeryci.grodzisk.pl/event/gruzja-wycieczka-samolotowa-batumi-herbatumi/
CATEGORIES:Wycieczka
END:VEVENT
BEGIN:VEVENT
DTSTART;TZID=Europe/Warsaw:20240515T000000
DTEND;TZID=Europe/Warsaw:20240515T235959
DTSTAMP:20260418T233331
CREATED:20240228T093128Z
LAST-MODIFIED:20240512T100912Z
UID:2178-1715731200-1715817599@emeryci.grodzisk.pl
SUMMARY:Wycieczka do Kłodawy i Łęczycy
DESCRIPTION:Ogłoszenie \nZarząd Oddziału Rejonowego PZERiI w Grodzisku Maz. \norganizuje jednodniową wycieczkę do Kłodawy oraz Łęczycy w dniu 15.05.2024r.  \nCena wycieczki z transportem: 160 zł/osoba \nW programie: \n– zwiedzanie i zjazd do Kopalni Soli w Kłodawie \n– obiad \n– zwiedzanie Zamku Boruty w Łęczycy \nWyjazd 15.05.2024r (środa) o godz. 6:30 z parkingu Centrum Kultury. \n  \n                                                                             Zarząd Związku i Burmistrz Grodziska Mazowieckiego \n 
URL:https://emeryci.grodzisk.pl/event/wycieczka-do-klodawy-i-leczycy/
CATEGORIES:Wycieczka
END:VEVENT
BEGIN:VEVENT
DTSTART;TZID=Europe/Warsaw:20240516T160000
DTEND;TZID=Europe/Warsaw:20240516T210000
DTSTAMP:20260418T233331
CREATED:20240424T090124Z
LAST-MODIFIED:20240512T100818Z
UID:2315-1715875200-1715893200@emeryci.grodzisk.pl
SUMMARY:Spotkanie integracyjne
DESCRIPTION:Zarząd Rejonowy Związku Emerytów\, Rencistów i Inwalidów\nw Grodzisku Mazowieckim organizuje  \nSPOTKANIE INTEGRACYJNE \nw dniu 16 maja 2024 r. (czwartek) w godzinach 16:00 – 21:00\nw hallu Hali Widowiskowo-Sportowej w Grodzisku Mazowieckim\nKoszt: 30 zł/osoba\nZaproszenia będą wydawane \n\nod dnia 8 maja 2024 r. (środa) w godz. 10:00-13:00.\nZaproszenia będą wydawane tylko osobom z legitymacją członkowską\nz opłaconymi składkami. \nWejście na halę od strony parkingu od godz. 15:30. \n\nZarząd Związku i Burmistrz Grodziska Mazowieckiego
URL:https://emeryci.grodzisk.pl/event/spotkanie-integracyjne-5/
CATEGORIES:Integracja
END:VEVENT
BEGIN:VEVENT
DTSTART;TZID=Europe/Warsaw:20240519T000000
DTEND;TZID=Europe/Warsaw:20240529T235959
DTSTAMP:20260418T233331
CREATED:20240106T093428Z
LAST-MODIFIED:20240205T180641Z
UID:1705-1716076800-1717027199@emeryci.grodzisk.pl
SUMMARY:Turnus wiosenny  w Rowach
DESCRIPTION:Zarząd PZERiI  organizuje wiosenny turnus wypoczynkowy w Rowach\, \nw Ośrodku Wypoczynkowym “WODNIK” \nw dniach 19 – 29 maja 2024 r. \nCena wyjazdu: 2100 zł/osoba + opłata klimatyczna 3 zł/osobodzień + dopłata 50 zł za transport \nZapisy od 24 stycznia 2024 r. Przy zapisie zaliczka w wysokości 500 zł.
URL:https://emeryci.grodzisk.pl/event/turnus-wypoczynkowy-w-rowach/
CATEGORIES:Wycieczka
END:VEVENT
END:VCALENDAR